BEGIN:VCALENDAR
VERSION:2.0
PRODID:-//Next Generation Childcare - ECPv5.0.1//NONSGML v1.0//EN
CALSCALE:GREGORIAN
METHOD:PUBLISH
X-WR-CALNAME:Next Generation Childcare
X-ORIGINAL-URL:https://nextgenerationchildcare.com.au
X-WR-CALDESC:Events for Next Generation Childcare
BEGIN:VTIMEZONE
TZID:Australia/Sydney
BEGIN:STANDARD
TZOFFSETFROM:+1100
TZOFFSETTO:+1000
TZNAME:AEST
DTSTART:20200404T160000
END:STANDARD
BEGIN:DAYLIGHT
TZOFFSETFROM:+1000
TZOFFSETTO:+1100
TZNAME:AEDT
DTSTART:20201003T160000
END:DAYLIGHT
END:VTIMEZONE
BEGIN:VEVENT
DTSTART;TZID=Australia/Sydney:20200409T160000
DTEND;TZID=Australia/Sydney:20200409T170000
DTSTAMP:20200301T113240
CREATED:20191115T013053Z
LAST-MODIFIED:20191115T013053Z
UID:1161-1586448000-1586451600@nextgenerationchildcare.com.au
SUMMARY:Easter Hat Parade
DESCRIPTION:
URL:https://nextgenerationchildcare.com.au/event/easter-hat-parade/
END:VEVENT
END:VCALENDAR