BEGIN:VCALENDAR
VERSION:2.0
PRODID:-//Next Generation Childcare - ECPv5.0.1//NONSGML v1.0//EN
CALSCALE:GREGORIAN
METHOD:PUBLISH
X-WR-CALNAME:Next Generation Childcare
X-ORIGINAL-URL:https://nextgenerationchildcare.com.au
X-WR-CALDESC:Events for Next Generation Childcare
BEGIN:VTIMEZONE
TZID:Australia/Sydney
BEGIN:STANDARD
TZOFFSETFROM:+1100
TZOFFSETTO:+1000
TZNAME:AEST
DTSTART:20200404T160000
END:STANDARD
BEGIN:DAYLIGHT
TZOFFSETFROM:+1000
TZOFFSETTO:+1100
TZNAME:AEDT
DTSTART:20201003T160000
END:DAYLIGHT
END:VTIMEZONE
BEGIN:VEVENT
DTSTART;VALUE=DATE:20200320
DTEND;VALUE=DATE:20200321
DTSTAMP:20200301T113145
CREATED:20191115T012922Z
LAST-MODIFIED:20191115T012922Z
UID:1158-1584662400-1584748799@nextgenerationchildcare.com.au
SUMMARY:Harmony Day Celebration
DESCRIPTION:Wear Orange to school \n
URL:https://nextgenerationchildcare.com.au/event/harmony-day-celebration/
END:VEVENT
END:VCALENDAR