BEGIN:VCALENDAR
VERSION:2.0
PRODID:-//Next Generation Childcare - ECPv5.0.1//NONSGML v1.0//EN
CALSCALE:GREGORIAN
METHOD:PUBLISH
X-WR-CALNAME:Next Generation Childcare
X-ORIGINAL-URL:https://nextgenerationchildcare.com.au
X-WR-CALDESC:Events for Next Generation Childcare
BEGIN:VTIMEZONE
TZID:Australia/Sydney
BEGIN:STANDARD
TZOFFSETFROM:+1100
TZOFFSETTO:+1000
TZNAME:AEST
DTSTART:20200404T160000
END:STANDARD
BEGIN:DAYLIGHT
TZOFFSETFROM:+1000
TZOFFSETTO:+1100
TZNAME:AEDT
DTSTART:20201003T160000
END:DAYLIGHT
END:VTIMEZONE
BEGIN:VEVENT
DTSTART;TZID=Australia/Sydney:20200213T100000
DTEND;TZID=Australia/Sydney:20200213T110000
DTSTAMP:20200301T114321
CREATED:20191115T012404Z
LAST-MODIFIED:20191115T012404Z
UID:1146-1581588000-1581591600@nextgenerationchildcare.com.au
SUMMARY:Multicultural Show
DESCRIPTION:
URL:https://nextgenerationchildcare.com.au/event/multicultural-show/
END:VEVENT
END:VCALENDAR